BEGIN:VCALENDAR
VERSION:2.0
PRODID:gruene-fraktion-pankow.de
METHOD:PUBLISH
BEGIN:VTIMEZONE
TZID:Europe/Berlin
X-LIC-LOCATION:Europe/Berlin
BEGIN:DAYLIGHT
TZOFFSETFROM:+0100
TZOFFSETTO:+0200
TZNAME:CEST
DTSTART:19700329T020000
RRULE:FREQ=YEARLY;INTERVAL=1;BYDAY=-1SU;BYMONTH=3
END:DAYLIGHT
BEGIN:STANDARD
TZOFFSETFROM:+0200
TZOFFSETTO:+0100
TZNAME:CET
DTSTART:19701025T030000
RRULE:FREQ=YEARLY;INTERVAL=1;BYDAY=-1SU;BYMONTH=10
END:STANDARD
END:VTIMEZONE
BEGIN:VEVENT
UID:ebaac2132bf98282329893b428bbf9fa@gruene-fraktion-pankow.de
URL;VALUE=URI:https://gruene-fraktion-pankow.de/termine/fraktionssitzung-
 4/
LOCATION:Fröbelstraße 17, Haus 6, Raum 227. Eine vorherige Anmeldung is
 t erforderlich bis Freitag um 10 Uhr. 
SUMMARY:Fraktionssitzung
DESCRIPTION;ALTREP="data:text/html,%3Cp%3E%3C%2Fp%3E":
CLASS:PUBLIC
DTSTART;TZID=Europe/Berlin:20260518T190000
DTEND;TZID=Europe/Berlin:20260518T210000
DTSTAMP:20260423T135226
END:VEVENT
END:VCALENDAR